BEGIN:VCALENDAR
VERSION:2.0
PRODID:-//Astronomicko přírodovědná observatoř - ECPv6.15.20//NONSGML v1.0//EN
CALSCALE:GREGORIAN
METHOD:PUBLISH
X-WR-CALNAME:Astronomicko přírodovědná observatoř
X-ORIGINAL-URL:https://tk.gymka.cz
X-WR-CALDESC:Akce na Astronomicko přírodovědná observatoř
REFRESH-INTERVAL;VALUE=DURATION:PT1H
X-Robots-Tag:noindex
X-PUBLISHED-TTL:PT1H
BEGIN:VTIMEZONE
TZID:Europe/Paris
BEGIN:DAYLIGHT
TZOFFSETFROM:+0100
TZOFFSETTO:+0200
TZNAME:CEST
DTSTART:20210328T010000
END:DAYLIGHT
BEGIN:STANDARD
TZOFFSETFROM:+0200
TZOFFSETTO:+0100
TZNAME:CET
DTSTART:20211031T010000
END:STANDARD
BEGIN:DAYLIGHT
TZOFFSETFROM:+0100
TZOFFSETTO:+0200
TZNAME:CEST
DTSTART:20220327T010000
END:DAYLIGHT
BEGIN:STANDARD
TZOFFSETFROM:+0200
TZOFFSETTO:+0100
TZNAME:CET
DTSTART:20221030T010000
END:STANDARD
BEGIN:DAYLIGHT
TZOFFSETFROM:+0100
TZOFFSETTO:+0200
TZNAME:CEST
DTSTART:20230326T010000
END:DAYLIGHT
BEGIN:STANDARD
TZOFFSETFROM:+0200
TZOFFSETTO:+0100
TZNAME:CET
DTSTART:20231029T010000
END:STANDARD
END:VTIMEZONE
BEGIN:VEVENT
DTSTART;VALUE=DATE:20220422
DTEND;VALUE=DATE:20220423
DTSTAMP:20260419T223219
CREATED:20220420T142940Z
LAST-MODIFIED:20220420T143147Z
UID:3646-1650585600-1650671999@tk.gymka.cz
SUMMARY:Den Země
DESCRIPTION:Řada aktivit zaměřených na přírodovědnou gramotnost věnovaných oslavě Dne Země.
URL:https://tk.gymka.cz/akce/den-zeme/
CATEGORIES:povinná výuka,Technický klub
ATTACH;FMTTYPE=image/jpeg:https://tk.gymka.cz/wp-content/uploads/2022/04/TK13-Den-Zeme-Povinna-vyuka.jpg
END:VEVENT
BEGIN:VEVENT
DTSTART;TZID=Europe/Paris:20220311T100000
DTEND;TZID=Europe/Paris:20220311T110000
DTSTAMP:20260419T223219
CREATED:20220217T222517Z
LAST-MODIFIED:20220217T222517Z
UID:3361-1646992800-1646996400@tk.gymka.cz
SUMMARY:MŠ Hvězdička Kadaň - O Měsíčku
DESCRIPTION:
URL:https://tk.gymka.cz/akce/ms-hvezdicka-kadan-o-mesicku/
LOCATION:Observatoř\, Nová kolonie 2115\, Kadaň (okres Chomutov)\, Ústecký kraj\, 43201\, Česká republika
CATEGORIES:Observatoř,povinná výuka
ATTACH;FMTTYPE=image/jpeg:https://tk.gymka.cz/wp-content/uploads/2022/02/Povinna-vyuka-TK-13-O-Mesicku.jpg
END:VEVENT
END:VCALENDAR