BEGIN:VCALENDAR
VERSION:2.0
PRODID:-//Astronomicko přírodovědná observatoř - ECPv6.15.20//NONSGML v1.0//EN
CALSCALE:GREGORIAN
METHOD:PUBLISH
X-WR-CALNAME:Astronomicko přírodovědná observatoř
X-ORIGINAL-URL:https://tk.gymka.cz
X-WR-CALDESC:Akce na Astronomicko přírodovědná observatoř
REFRESH-INTERVAL;VALUE=DURATION:PT1H
X-Robots-Tag:noindex
X-PUBLISHED-TTL:PT1H
BEGIN:VTIMEZONE
TZID:Europe/Paris
BEGIN:DAYLIGHT
TZOFFSETFROM:+0100
TZOFFSETTO:+0200
TZNAME:CEST
DTSTART:20190331T010000
END:DAYLIGHT
BEGIN:STANDARD
TZOFFSETFROM:+0200
TZOFFSETTO:+0100
TZNAME:CET
DTSTART:20191027T010000
END:STANDARD
BEGIN:DAYLIGHT
TZOFFSETFROM:+0100
TZOFFSETTO:+0200
TZNAME:CEST
DTSTART:20200329T010000
END:DAYLIGHT
BEGIN:STANDARD
TZOFFSETFROM:+0200
TZOFFSETTO:+0100
TZNAME:CET
DTSTART:20201025T010000
END:STANDARD
BEGIN:DAYLIGHT
TZOFFSETFROM:+0100
TZOFFSETTO:+0200
TZNAME:CEST
DTSTART:20210328T010000
END:DAYLIGHT
BEGIN:STANDARD
TZOFFSETFROM:+0200
TZOFFSETTO:+0100
TZNAME:CET
DTSTART:20211031T010000
END:STANDARD
BEGIN:DAYLIGHT
TZOFFSETFROM:+0100
TZOFFSETTO:+0200
TZNAME:CEST
DTSTART:20220327T010000
END:DAYLIGHT
BEGIN:STANDARD
TZOFFSETFROM:+0200
TZOFFSETTO:+0100
TZNAME:CET
DTSTART:20221030T010000
END:STANDARD
END:VTIMEZONE
BEGIN:VEVENT
DTSTART;VALUE=DATE:20211106
DTEND;VALUE=DATE:20211107
DTSTAMP:20260420T013333
CREATED:20220310T221744Z
LAST-MODIFIED:20220310T221810Z
UID:3506-1636156800-1636243199@tk.gymka.cz
SUMMARY:Vánoce - svícen\, keramické ozdoby
DESCRIPTION:Navštivte naší keramickou dílnu na 5. základní škole v Kadani. Nabízíme den plný zábavy s keramickými polytechnickými aktivitami.
URL:https://tk.gymka.cz/akce/vanoce-svicen-keramicke-ozdoby/
CATEGORIES:Otevřená dílna,Technický klub
ATTACH;FMTTYPE=image/jpeg:https://tk.gymka.cz/wp-content/uploads/2022/03/Otevrena-dilna-TK13-Vanoce-svicen-keramicke-ozdoby.jpg
END:VEVENT
BEGIN:VEVENT
DTSTART;VALUE=DATE:20211002
DTEND;VALUE=DATE:20211003
DTSTAMP:20260420T013333
CREATED:20220310T221439Z
LAST-MODIFIED:20220310T221439Z
UID:3503-1633132800-1633219199@tk.gymka.cz
SUMMARY:Keramická dílna - otisky listů (misky)\, zápich do květináče (dýně\, strašák)
DESCRIPTION:Navštivte naší keramickou dílnu. Nabízíme den plný zábavy s keramickými polytechnickými aktivitami.
URL:https://tk.gymka.cz/akce/keramicka-dilna-otisky-listu-misky-zapich-do-kvetinace-dyne-strasak/
CATEGORIES:Otevřená dílna,Technický klub
ATTACH;FMTTYPE=image/jpeg:https://tk.gymka.cz/wp-content/uploads/2022/03/Otevrena-dilna-TK13-Otisky-listu-a-kvetinace.jpg
END:VEVENT
BEGIN:VEVENT
DTSTART;TZID=Europe/Paris:20201031T160000
DTEND;TZID=Europe/Paris:20201031T190000
DTSTAMP:20260420T013333
CREATED:20171222T132446Z
LAST-MODIFIED:20220220T154358Z
UID:2484-1604160000-1604170800@tk.gymka.cz
SUMMARY:Kirwitzerovy dny
DESCRIPTION:
URL:https://tk.gymka.cz/akce/kirwitzerovy-dny/
CATEGORIES:Otevřená dílna,Technický klub
ATTACH;FMTTYPE=image/jpeg:https://tk.gymka.cz/wp-content/uploads/2017/12/Otevrena-dilna-TK13-Kiwitzer-scaled.jpg
END:VEVENT
END:VCALENDAR