BEGIN:VCALENDAR
VERSION:2.0
PRODID:-//Astronomicko přírodovědná observatoř - ECPv6.15.20//NONSGML v1.0//EN
CALSCALE:GREGORIAN
METHOD:PUBLISH
X-WR-CALNAME:Astronomicko přírodovědná observatoř
X-ORIGINAL-URL:https://tk.gymka.cz
X-WR-CALDESC:Akce na Astronomicko přírodovědná observatoř
REFRESH-INTERVAL;VALUE=DURATION:PT1H
X-Robots-Tag:noindex
X-PUBLISHED-TTL:PT1H
BEGIN:VTIMEZONE
TZID:Europe/Paris
BEGIN:DAYLIGHT
TZOFFSETFROM:+0100
TZOFFSETTO:+0200
TZNAME:CEST
DTSTART:20190331T010000
END:DAYLIGHT
BEGIN:STANDARD
TZOFFSETFROM:+0200
TZOFFSETTO:+0100
TZNAME:CET
DTSTART:20191027T010000
END:STANDARD
BEGIN:DAYLIGHT
TZOFFSETFROM:+0100
TZOFFSETTO:+0200
TZNAME:CEST
DTSTART:20200329T010000
END:DAYLIGHT
BEGIN:STANDARD
TZOFFSETFROM:+0200
TZOFFSETTO:+0100
TZNAME:CET
DTSTART:20201025T010000
END:STANDARD
BEGIN:DAYLIGHT
TZOFFSETFROM:+0100
TZOFFSETTO:+0200
TZNAME:CEST
DTSTART:20210328T010000
END:DAYLIGHT
BEGIN:STANDARD
TZOFFSETFROM:+0200
TZOFFSETTO:+0100
TZNAME:CET
DTSTART:20211031T010000
END:STANDARD
BEGIN:DAYLIGHT
TZOFFSETFROM:+0100
TZOFFSETTO:+0200
TZNAME:CEST
DTSTART:20220327T010000
END:DAYLIGHT
BEGIN:STANDARD
TZOFFSETFROM:+0200
TZOFFSETTO:+0100
TZNAME:CET
DTSTART:20221030T010000
END:STANDARD
BEGIN:DAYLIGHT
TZOFFSETFROM:+0100
TZOFFSETTO:+0200
TZNAME:CEST
DTSTART:20230326T010000
END:DAYLIGHT
BEGIN:STANDARD
TZOFFSETFROM:+0200
TZOFFSETTO:+0100
TZNAME:CET
DTSTART:20231029T010000
END:STANDARD
END:VTIMEZONE
BEGIN:VEVENT
DTSTART;TZID=Europe/Paris:20220910T150000
DTEND;TZID=Europe/Paris:20220910T230000
DTSTAMP:20260420T030516
CREATED:20220904T184046Z
LAST-MODIFIED:20221127T092547Z
UID:3857-1662822000-1662850800@tk.gymka.cz
SUMMARY:Astronomické pozorování Slunce\, Měsíce\, Saturnu a Jupiteru
DESCRIPTION:Komponovaný program pro mladé\, zamilované a další zájemce obsahující přednášku na téma planety Slunce a jeho aktivity\, Měsíce a planet slunečení soustavy přímo pod oblohou. V případě nepříznivého počasí přednáška bude v interiéru observatoře. \nZa jasného počasí se podíváme na Slunce dvěma slunečními dalekohledy\, se soumrakem mrkneme na Měsíc a později večer odhalíme krásu Saturnových prstenců a Jupiterových oblačných pásů. Ti pozorní pak uvidí možná i něco navíc.
URL:https://tk.gymka.cz/akce/astronomicke-pozorovani-slunce-mesice-saturnu-a-jupiteru/
LOCATION:Observatoř\, Nová kolonie 2115\, Kadaň (okres Chomutov)\, Ústecký kraj\, 43201\, Česká republika
CATEGORIES:Observatoř,Otevřená dílna
ATTACH;FMTTYPE=image/jpeg:https://tk.gymka.cz/wp-content/uploads/2022/11/TK_PLAKATY_ASTRO_general.jpg
END:VEVENT
BEGIN:VEVENT
DTSTART;TZID=Europe/Paris:20220828T160000
DTEND;TZID=Europe/Paris:20220828T160000
DTSTAMP:20260420T030516
CREATED:20220803T205922Z
LAST-MODIFIED:20220903T210108Z
UID:3855-1661702400-1661702400@tk.gymka.cz
SUMMARY:Plecháčci
DESCRIPTION:Tvůrčí otevřená dílna\nOtevřená dílna v rámci projektu “Podpora polytechnického vzdělávání a gramotnosti v ÚK” (ÚK IKAP A2)\, který je spolufinancován Evropskou unií. Účastníci si v rámci dílny osvojí postupy a dovednosti k tvoření\, které pak budou dělat i doma.
URL:https://tk.gymka.cz/akce/plechacci/
LOCATION:Střelnice Kadaň\, Čechova 147\, Kadaň\, 432 01\, Česká republika
CATEGORIES:Otevřená dílna,Technický klub
ATTACH;FMTTYPE=image/jpeg:https://tk.gymka.cz/wp-content/uploads/2017/02/Otevrena-dilna-TK13-Plechacci-plakat.jpg
ORGANIZER;CN="Gymn%C3%A1zium%2C Kada%C5%88":MAILTO:reditel@gymka,.cz
END:VEVENT
BEGIN:VEVENT
DTSTART;TZID=Europe/Paris:20220826T160000
DTEND;TZID=Europe/Paris:20220826T235900
DTSTAMP:20260420T030516
CREATED:20220821T084533Z
LAST-MODIFIED:20220821T084533Z
UID:3809-1661529600-1661558340@tk.gymka.cz
SUMMARY:Malé nahlédnutí do sluneční soustavy - Slunce\, Saturn\, Jupiter
DESCRIPTION:Zveme vás na astronomické pozorování naší observatoře. A co všechno zažijete? Hodně záleží na počasí\, ale pokud bude vidět obloha\, pak se můžete těšit na pozorování Slunce a jeho skvrn a konečně se nám začínají ukazovat největší planety sluneční soustavy\, Saturn a Jupiter. Takže v noci po setmění zamíříme k Saturnu a Jupiteru.
URL:https://tk.gymka.cz/akce/male-nahlednuti-do-slunecni-soustavy-slunce-saturn-jupiter/
LOCATION:Observatoř\, Nová kolonie 2115\, Kadaň (okres Chomutov)\, Ústecký kraj\, 43201\, Česká republika
CATEGORIES:Observatoř
ATTACH;FMTTYPE=image/jpeg:https://tk.gymka.cz/wp-content/uploads/2022/04/Otevrena-dilna-TK-13-Astronomicka-pozorovani_.jpg
END:VEVENT
BEGIN:VEVENT
DTSTART;TZID=Europe/Paris:20220812T130000
DTEND;TZID=Europe/Paris:20220812T180000
DTSTAMP:20260420T030516
CREATED:20220808T114619Z
LAST-MODIFIED:20220821T084830Z
UID:3811-1660309200-1660327200@tk.gymka.cz
SUMMARY:Pozorování Slunce
DESCRIPTION:Zveme vás na astronomické pozorování naší observatoře. A co všechno zažijete? Hodně záleží na počasí\, ale pokud bude vidět obloha\, pak se můžete těšit na pozorování Slunce a jeho skvrn.
URL:https://tk.gymka.cz/akce/pozorovani-slunce/
LOCATION:Observatoř\, Nová kolonie 2115\, Kadaň (okres Chomutov)\, Ústecký kraj\, 43201\, Česká republika
CATEGORIES:Observatoř
ATTACH;FMTTYPE=image/jpeg:https://tk.gymka.cz/wp-content/uploads/2022/04/Otevrena-dilna-TK-13-Astronomicka-pozorovani_.jpg
END:VEVENT
BEGIN:VEVENT
DTSTART;TZID=Europe/Paris:20220607T080000
DTEND;TZID=Europe/Paris:20220607T140000
DTSTAMP:20260420T030516
CREATED:20220327T082544Z
LAST-MODIFIED:20220327T082544Z
UID:3542-1654588800-1654610400@tk.gymka.cz
SUMMARY:Mini Globe Games 2022
DESCRIPTION:Soutěž zaměřená na ekologii je určena žákům základních škol a odpovídajícím ročníkům víceletých gymnázií. V soutěžním klání 3 členných družstev se budou hodnotit znalosti a dovednosti nejen z ekologie a biologie\, ale i schopnost spolupráce. Soutěž proběhne v přírodě (kadaňském lesoparku)\, výsledky budou známé již ten samý den. Soutěží se ve 2 kategoriích – mladší – žáci 6. a 7. tříd a starší – žáci 8. a 9. tříd.
URL:https://tk.gymka.cz/akce/mini-globe-games-2022/
LOCATION:Gymnázium Kadaň\, 5. května 620\, Kadaň\, WA\, 43201
CATEGORIES:Otevřená dílna
ATTACH;FMTTYPE=image/jpeg:https://tk.gymka.cz/wp-content/uploads/2022/03/MGG_POZVANKA.jpg
ORGANIZER;CN="Gymn%C3%A1zium%2C Kada%C5%88":MAILTO:reditel@gymka,.cz
END:VEVENT
BEGIN:VEVENT
DTSTART;TZID=Europe/Paris:20220415T140000
DTEND;TZID=Europe/Paris:20220415T180000
DTSTAMP:20260420T030516
CREATED:20220412T143942Z
LAST-MODIFIED:20220412T143942Z
UID:3636-1650031200-1650045600@tk.gymka.cz
SUMMARY:Pozorování Slunce a jeho aktivit
DESCRIPTION:
URL:https://tk.gymka.cz/akce/pozorovani-slunce-a-jeho-aktivit/
LOCATION:Observatoř\, Nová kolonie 2115\, Kadaň (okres Chomutov)\, Ústecký kraj\, 43201\, Česká republika
CATEGORIES:Otevřená dílna
ATTACH;FMTTYPE=image/jpeg:https://tk.gymka.cz/wp-content/uploads/2022/02/Otevrena-dilna-TK-13-Astronomicka-pozorovani_.jpg
END:VEVENT
BEGIN:VEVENT
DTSTART;TZID=Europe/Paris:20220410T160000
DTEND;TZID=Europe/Paris:20220410T160000
DTSTAMP:20260420T030516
CREATED:20220406T191056Z
LAST-MODIFIED:20220406T191056Z
UID:3574-1649606400-1649606400@tk.gymka.cz
SUMMARY:Zvířátka v obraze
DESCRIPTION:Tvůrčí otevřená dílna\nOtevřená dílna v rámci projektu “Podpora polytechnického vzdělávání a gramotnosti v ÚK” (ÚK IKAP A2)\, který je spolufinancován Evropskou unií. Účastníci si v rámci dílny osvojí postupy a dovednosti k tvoření\, které pak budou dělat i doma.
URL:https://tk.gymka.cz/akce/zviratka-v-obraze/
LOCATION:Ústecký kraj
CATEGORIES:Otevřená dílna
ATTACH;FMTTYPE=image/jpeg:https://tk.gymka.cz/wp-content/uploads/2022/04/Otevrena-dilna-TK13-Tvorime-zviratka-v-obraze-scaled.jpg
END:VEVENT
BEGIN:VEVENT
DTSTART;TZID=Europe/Paris:20220326T130000
DTEND;TZID=Europe/Paris:20220326T170000
DTSTAMP:20260420T030516
CREATED:20220307T180007Z
LAST-MODIFIED:20220322T223148Z
UID:3487-1648299600-1648314000@tk.gymka.cz
SUMMARY:Astronomické pozorování
DESCRIPTION:Zveme vás na astronomické pozorování naší observatoře. Začátek pozorování je vždy v celou hodinu. \nA co všechno zažijete? Hodně záleží na počasí\, ale pokud bude vidět obloha\, pak se můžete těšit na pozorování Slunce.
URL:https://tk.gymka.cz/akce/astronomicke-pozorovani-3/
LOCATION:Observatoř\, Nová kolonie 2115\, Kadaň (okres Chomutov)\, Ústecký kraj\, 43201\, Česká republika
CATEGORIES:Observatoř,Otevřená dílna
ATTACH;FMTTYPE=image/jpeg:https://tk.gymka.cz/wp-content/uploads/2022/02/Otevrena-dilna-TK-13-Astronomicka-pozorovani_.jpg
ORGANIZER;CN="Gymn%C3%A1zium%2C Kada%C5%88":MAILTO:reditel@gymka,.cz
END:VEVENT
BEGIN:VEVENT
DTSTART;TZID=Europe/Paris:20220311T160000
DTEND;TZID=Europe/Paris:20220311T190000
DTSTAMP:20260420T030516
CREATED:20220305T110121Z
LAST-MODIFIED:20220305T110121Z
UID:3481-1647014400-1647025200@tk.gymka.cz
SUMMARY:Halové jevy
DESCRIPTION:Zveme vás na otevřenou dílnu zaměřenou na přírodovědnou gramotnost.
URL:https://tk.gymka.cz/akce/halove-jevy/
LOCATION:Observatoř\, Nová kolonie 2115\, Kadaň (okres Chomutov)\, Ústecký kraj\, 43201\, Česká republika
CATEGORIES:Observatoř,Otevřená dílna
ATTACH;FMTTYPE=image/jpeg:https://tk.gymka.cz/wp-content/uploads/2022/03/TK-13-Otevrena-dilna-gramotnost-logika-Halove-jevy.jpg
END:VEVENT
BEGIN:VEVENT
DTSTART;TZID=Europe/Paris:20220306T150000
DTEND;TZID=Europe/Paris:20220306T190000
DTSTAMP:20260420T030516
CREATED:20220222T002428Z
LAST-MODIFIED:20220222T002437Z
UID:3430-1646578800-1646593200@tk.gymka.cz
SUMMARY:Oslíčku otřes se!
DESCRIPTION:Tvůrčí otevřená dílna\nOtevřená dílna v rámci projektu “Podpora polytechnického vzdělávání a gramotnosti v ÚK” (ÚK IKAP A2)\, který je spolufinancován Evropskou unií. Účastníci si v rámci dílny osvojí postupy a dovednosti k tvoření\, které pak budou dělat i doma.
URL:https://tk.gymka.cz/akce/oslicku-otres-se/
LOCATION:Ústecký kraj
CATEGORIES:Otevřená dílna,Technický klub
ATTACH;FMTTYPE=image/jpeg:https://tk.gymka.cz/wp-content/uploads/2022/02/Otevrena-dilna-TK-13-Oslicku-otres-se.jpg
ORGANIZER;CN="Gymn%C3%A1zium%2C Kada%C5%88":MAILTO:reditel@gymka,.cz
END:VEVENT
BEGIN:VEVENT
DTSTART;TZID=Europe/Paris:20220305T130000
DTEND;TZID=Europe/Paris:20220305T170000
DTSTAMP:20260420T030516
CREATED:20220220T172631Z
LAST-MODIFIED:20220419T172714Z
UID:3642-1646485200-1646499600@tk.gymka.cz
SUMMARY:Zvonky ke štěstí
DESCRIPTION:Otevřená dílna v rámci projektu “Podpora polytechnického vzdělávání a gramotnosti v ÚK” (ÚK IKAP A2)\, který je spolufinancován Evropskou unií. Účastníci si v rámci dílny osvojí postupy a dovednosti k tvoření\, které pak budou dělat i doma.
URL:https://tk.gymka.cz/akce/zvonky-ke-stesti/
LOCATION:Ústecký kraj
CATEGORIES:Otevřená dílna,Technický klub
ATTACH;FMTTYPE=image/jpeg:https://tk.gymka.cz/wp-content/uploads/2022/04/Otevrena-dilna-TK13-Vyroba-zvonkohry.jpg
END:VEVENT
BEGIN:VEVENT
DTSTART;VALUE=DATE:20220204
DTEND;VALUE=DATE:20220206
DTSTAMP:20260420T030516
CREATED:20220122T123600Z
LAST-MODIFIED:20220220T154714Z
UID:3184-1643932800-1644105599@tk.gymka.cz
SUMMARY:Den otevřených dveří
DESCRIPTION:Zveme vás na 1. Den otevřených dveří naší observatoře. My se již opravdu těšíme\, ale aby všechno fungovalo a vy jste byli spokojení\, tak musíme dodržet určitá pravidla.\n1. prohlídka observatoře pouze s průvodcem a je nutné si rezervovat místo přes odkaz události na Facebooku: https://fb.me/e/2ctebO8AG\n2. ve vnitřních prostorách je nutné mít respirátory nebo roušky.\nDěkujeme \nA co všechno zažijete? Hodně záleží na počasí\, ale pokud bude vidět obloha a Slunce\, pak se můžete těšit na pozorování Slunce\, po setmění noční oblohy\, prohlídku astronomické kopule a povídání o vzniku observatoře.\nSpecialitou bude křest nové knihy pro zájemce o astronomii. Čas bude upřesněn a není svázán s registrací.
URL:https://tk.gymka.cz/akce/den-otevrenych-dveri/
LOCATION:Observatoř\, Nová kolonie 2115\, Kadaň (okres Chomutov)\, Ústecký kraj\, 43201\, Česká republika
CATEGORIES:Observatoř,Otevřená dílna
ATTACH;FMTTYPE=image/jpeg:https://tk.gymka.cz/wp-content/uploads/2022/01/Otevrena-dilna-TK13-Otevreni-scaled.jpg
ORGANIZER;CN="Gymn%C3%A1zium%2C Kada%C5%88":MAILTO:reditel@gymka,.cz
END:VEVENT
BEGIN:VEVENT
DTSTART;TZID=Europe/Paris:20220123T150000
DTEND;TZID=Europe/Paris:20220123T190000
DTSTAMP:20260420T030516
CREATED:20220220T115944Z
LAST-MODIFIED:20220220T115944Z
UID:3412-1642950000-1642964400@tk.gymka.cz
SUMMARY:Potápěč v lahvi
DESCRIPTION:Tvůrčí otevřená dílna\nOtevřená dílna v rámci projektu “Podpora polytechnického vzdělávání a gramotnosti v ÚK” (ÚK IKAP A2)\, který je spolufinancován Evropskou unií. Účastníci si v rámci dílny osvojí postupy a dovednosti k tvoření\, které pak budou dělat i doma.
URL:https://tk.gymka.cz/akce/potapec-v-lahvi/
LOCATION:Ústecký kraj
CATEGORIES:Otevřená dílna,Technický klub
ATTACH;FMTTYPE=image/jpeg:https://tk.gymka.cz/wp-content/uploads/2022/02/Otevrena-dilna-TK13-Potapec-v-lahvni-scaled.jpg
ORGANIZER;CN="Gymn%C3%A1zium%2C Kada%C5%88":MAILTO:reditel@gymka,.cz
END:VEVENT
BEGIN:VEVENT
DTSTART;TZID=Europe/Paris:20220114T130000
DTEND;TZID=Europe/Paris:20220114T160000
DTSTAMP:20260420T030516
CREATED:20170208T114325Z
LAST-MODIFIED:20220220T132020Z
UID:2486-1642165200-1642176000@tk.gymka.cz
SUMMARY:Tvoříme spektrem světla
DESCRIPTION:Tvůrčí otevřená dílna\nOtevřená dílna v rámci projektu “Podpora polytechnického vzdělávání a gramotnosti v ÚK” (ÚK IKAP A2)\, který je spolufinancován Evropskou unií. Účastníci si v rámci dílny osvojí postupy a dovednosti k tvoření\, které pak budou dělat i doma.
URL:https://tk.gymka.cz/akce/tvorime-spektrem-svetla/
LOCATION:Gymnázium Kadaň\, 5. května 620\, Kadaň\, WA\, 43201
CATEGORIES:Otevřená dílna,Technický klub
ATTACH;FMTTYPE=image/jpeg:https://tk.gymka.cz/wp-content/uploads/2017/02/Otevrena-dilna-TK13-Tvorime-spektrem-svetla-scaled.jpg
ORGANIZER;CN="Gymn%C3%A1zium%2C Kada%C5%88":MAILTO:reditel@gymka,.cz
END:VEVENT
BEGIN:VEVENT
DTSTART;VALUE=DATE:20220108
DTEND;VALUE=DATE:20220109
DTSTAMP:20260420T030516
CREATED:20220310T222303Z
LAST-MODIFIED:20220310T222303Z
UID:3512-1641600000-1641686399@tk.gymka.cz
SUMMARY:Glazování výrobků\, modelování (anděl)\, výroba vázy - květináče
DESCRIPTION:Navštivte naší keramickou dílnu na 5. základní škole v Kadani. Nabízíme den plný zábavy s keramickými polytechnickými aktivitami.
URL:https://tk.gymka.cz/akce/glazovani-vyrobku-modelovani-andel-vyroba-vazy-kvetinace/
LOCATION:Ústecký kraj
CATEGORIES:Otevřená dílna,Technický klub
ATTACH;FMTTYPE=image/jpeg:https://tk.gymka.cz/wp-content/uploads/2022/03/Otevrena-dilna-TK13-Glazovani-vyrobku-modelovani-andela-a-vyroba-vazy-scaled.jpg
END:VEVENT
BEGIN:VEVENT
DTSTART;TZID=Europe/Paris:20211212T160000
DTEND;TZID=Europe/Paris:20211212T200000
DTSTAMP:20260420T030516
CREATED:20171221T091609Z
LAST-MODIFIED:20220220T114535Z
UID:2485-1639324800-1639339200@tk.gymka.cz
SUMMARY:Čamrda aneb toč se káčo
DESCRIPTION:Tvůrčí otevřená dílna\nOtevřená dílna v rámci projektu “Podpora polytechnického vzdělávání a gramotnosti v ÚK” (ÚK IKAP A2)\, který je spolufinancován Evropskou unií. Účastníci si v rámci dílny osvojí postupy a dovednosti k tvoření\, které pak budou dělat i doma.
URL:https://tk.gymka.cz/akce/camrda-aneb-toc-se-kaco/
LOCATION:Galerie robotika
CATEGORIES:Otevřená dílna,Technický klub
ATTACH;FMTTYPE=image/jpeg:https://tk.gymka.cz/wp-content/uploads/2017/12/Otevrena-dilna-TK13-Camrda-aneb-to-se-kaco.jpg
ORGANIZER;CN="Gymn%C3%A1zium%2C Kada%C5%88":MAILTO:reditel@gymka,.cz
END:VEVENT
BEGIN:VEVENT
DTSTART;VALUE=DATE:20211204
DTEND;VALUE=DATE:20211205
DTSTAMP:20260420T030516
CREATED:20220310T222058Z
LAST-MODIFIED:20220310T222058Z
UID:3509-1638576000-1638662399@tk.gymka.cz
SUMMARY:Glazování výrobků\, výroba svícnu (domek)
DESCRIPTION:Navštivte naší keramickou dílnu na 5. základní škole v Kadani. Nabízíme den plný zábavy s keramickými polytechnickými aktivitami.
URL:https://tk.gymka.cz/akce/glazovani-vyrobku-vyroba-svicnu-domek/
LOCATION:Ústecký kraj
CATEGORIES:Otevřená dílna,Technický klub
ATTACH;FMTTYPE=image/jpeg:https://tk.gymka.cz/wp-content/uploads/2022/03/Otevrena-dilna-TK13-Glazovani-vyrobku-vyroba-svicnu.jpg
END:VEVENT
BEGIN:VEVENT
DTSTART;TZID=Europe/Paris:20211126T130000
DTEND;TZID=Europe/Paris:20211126T130000
DTSTAMP:20260420T030516
CREATED:20220310T220849Z
LAST-MODIFIED:20220310T220849Z
UID:3500-1637931600-1637931600@tk.gymka.cz
SUMMARY:Lapače snů - otevřená dílna
DESCRIPTION:Otevřená dílna na výrobu lapače snů. Výroba lapače snů kombinuje různé techniky řemeslné a umělecké práce. Cena je zdarma a účastníci dostanou veškerý potřebný materiál pro výrobu. Domů si odnesete lapač snů.
URL:https://tk.gymka.cz/akce/lapace-snu-otevrena-dilna/
LOCATION:Gymnázium Kadaň\, 5. května 620\, Kadaň\, WA\, 43201
CATEGORIES:Otevřená dílna,Technický klub
ATTACH;FMTTYPE=image/jpeg:https://tk.gymka.cz/wp-content/uploads/2022/03/Otevrena-dilna-TK13-Lapace-snu.jpg
ORGANIZER;CN="Gymn%C3%A1zium%2C Kada%C5%88":MAILTO:reditel@gymka,.cz
END:VEVENT
BEGIN:VEVENT
DTSTART;TZID=Europe/Paris:20211114T160000
DTEND;TZID=Europe/Paris:20211114T200000
DTSTAMP:20260420T030516
CREATED:20211011T133001Z
LAST-MODIFIED:20220220T113406Z
UID:2482-1636905600-1636920000@tk.gymka.cz
SUMMARY:Tvoříme: změn\, vyměň\, proměň
DESCRIPTION:Tvůrčí otevřená dílna\nOtevřená dílna v rámci projektu “Podpora polytechnického vzdělávání a gramotnosti v ÚK” (ÚK IKAP A2)\, který je spolufinancován Evropskou unií. Účastníci si v rámci dílny osvojí postupy a dovednosti k tvoření\, které pak budou dělat i doma.
URL:https://tk.gymka.cz/akce/most-part-fantastic-faculty-members-for-the-most-students/
LOCATION:Galerie robotika
CATEGORIES:Otevřená dílna,Technický klub
ATTACH;FMTTYPE=image/jpeg:https://tk.gymka.cz/wp-content/uploads/2017/12/Otevrena-dilna-TK13-Tvorime-zmen-vymen-promen.jpg
END:VEVENT
BEGIN:VEVENT
DTSTART;VALUE=DATE:20211106
DTEND;VALUE=DATE:20211107
DTSTAMP:20260420T030516
CREATED:20220310T221744Z
LAST-MODIFIED:20220310T221810Z
UID:3506-1636156800-1636243199@tk.gymka.cz
SUMMARY:Vánoce - svícen\, keramické ozdoby
DESCRIPTION:Navštivte naší keramickou dílnu na 5. základní škole v Kadani. Nabízíme den plný zábavy s keramickými polytechnickými aktivitami.
URL:https://tk.gymka.cz/akce/vanoce-svicen-keramicke-ozdoby/
LOCATION:Ústecký kraj
CATEGORIES:Otevřená dílna,Technický klub
ATTACH;FMTTYPE=image/jpeg:https://tk.gymka.cz/wp-content/uploads/2022/03/Otevrena-dilna-TK13-Vanoce-svicen-keramicke-ozdoby.jpg
END:VEVENT
BEGIN:VEVENT
DTSTART;TZID=Europe/Paris:20201031T160000
DTEND;TZID=Europe/Paris:20201031T190000
DTSTAMP:20260420T030516
CREATED:20171222T132446Z
LAST-MODIFIED:20220220T154358Z
UID:2484-1604160000-1604170800@tk.gymka.cz
SUMMARY:Kirwitzerovy dny
DESCRIPTION:
URL:https://tk.gymka.cz/akce/kirwitzerovy-dny/
LOCATION:Ústecký kraj
CATEGORIES:Otevřená dílna,Technický klub
ATTACH;FMTTYPE=image/jpeg:https://tk.gymka.cz/wp-content/uploads/2017/12/Otevrena-dilna-TK13-Kiwitzer-scaled.jpg
END:VEVENT
END:VCALENDAR