BEGIN:VCALENDAR
VERSION:2.0
PRODID:-//Astronomicko přírodovědná observatoř - ECPv6.15.20//NONSGML v1.0//EN
CALSCALE:GREGORIAN
METHOD:PUBLISH
X-WR-CALNAME:Astronomicko přírodovědná observatoř
X-ORIGINAL-URL:https://tk.gymka.cz
X-WR-CALDESC:Akce na Astronomicko přírodovědná observatoř
REFRESH-INTERVAL;VALUE=DURATION:PT1H
X-Robots-Tag:noindex
X-PUBLISHED-TTL:PT1H
BEGIN:VTIMEZONE
TZID:Europe/Paris
BEGIN:DAYLIGHT
TZOFFSETFROM:+0100
TZOFFSETTO:+0200
TZNAME:CEST
DTSTART:20200329T010000
END:DAYLIGHT
BEGIN:STANDARD
TZOFFSETFROM:+0200
TZOFFSETTO:+0100
TZNAME:CET
DTSTART:20201025T010000
END:STANDARD
BEGIN:DAYLIGHT
TZOFFSETFROM:+0100
TZOFFSETTO:+0200
TZNAME:CEST
DTSTART:20210328T010000
END:DAYLIGHT
BEGIN:STANDARD
TZOFFSETFROM:+0200
TZOFFSETTO:+0100
TZNAME:CET
DTSTART:20211031T010000
END:STANDARD
BEGIN:DAYLIGHT
TZOFFSETFROM:+0100
TZOFFSETTO:+0200
TZNAME:CEST
DTSTART:20220327T010000
END:DAYLIGHT
BEGIN:STANDARD
TZOFFSETFROM:+0200
TZOFFSETTO:+0100
TZNAME:CET
DTSTART:20221030T010000
END:STANDARD
BEGIN:DAYLIGHT
TZOFFSETFROM:+0100
TZOFFSETTO:+0200
TZNAME:CEST
DTSTART:20230326T010000
END:DAYLIGHT
BEGIN:STANDARD
TZOFFSETFROM:+0200
TZOFFSETTO:+0100
TZNAME:CET
DTSTART:20231029T010000
END:STANDARD
END:VTIMEZONE
BEGIN:VEVENT
DTSTART;TZID=Europe/Paris:20220410T160000
DTEND;TZID=Europe/Paris:20220410T160000
DTSTAMP:20260419T235225
CREATED:20220406T191056Z
LAST-MODIFIED:20220406T191056Z
UID:3574-1649606400-1649606400@tk.gymka.cz
SUMMARY:Zvířátka v obraze
DESCRIPTION:Tvůrčí otevřená dílna\nOtevřená dílna v rámci projektu “Podpora polytechnického vzdělávání a gramotnosti v ÚK” (ÚK IKAP A2)\, který je spolufinancován Evropskou unií. Účastníci si v rámci dílny osvojí postupy a dovednosti k tvoření\, které pak budou dělat i doma.
URL:https://tk.gymka.cz/akce/zviratka-v-obraze/
CATEGORIES:Otevřená dílna
ATTACH;FMTTYPE=image/jpeg:https://tk.gymka.cz/wp-content/uploads/2022/04/Otevrena-dilna-TK13-Tvorime-zviratka-v-obraze-scaled.jpg
END:VEVENT
BEGIN:VEVENT
DTSTART;VALUE=DATE:20220108
DTEND;VALUE=DATE:20220109
DTSTAMP:20260419T235225
CREATED:20220310T222303Z
LAST-MODIFIED:20220310T222303Z
UID:3512-1641600000-1641686399@tk.gymka.cz
SUMMARY:Glazování výrobků\, modelování (anděl)\, výroba vázy - květináče
DESCRIPTION:Navštivte naší keramickou dílnu na 5. základní škole v Kadani. Nabízíme den plný zábavy s keramickými polytechnickými aktivitami.
URL:https://tk.gymka.cz/akce/glazovani-vyrobku-modelovani-andel-vyroba-vazy-kvetinace/
CATEGORIES:Otevřená dílna,Technický klub
ATTACH;FMTTYPE=image/jpeg:https://tk.gymka.cz/wp-content/uploads/2022/03/Otevrena-dilna-TK13-Glazovani-vyrobku-modelovani-andela-a-vyroba-vazy-scaled.jpg
END:VEVENT
BEGIN:VEVENT
DTSTART;VALUE=DATE:20211204
DTEND;VALUE=DATE:20211205
DTSTAMP:20260419T235225
CREATED:20220310T222058Z
LAST-MODIFIED:20220310T222058Z
UID:3509-1638576000-1638662399@tk.gymka.cz
SUMMARY:Glazování výrobků\, výroba svícnu (domek)
DESCRIPTION:Navštivte naší keramickou dílnu na 5. základní škole v Kadani. Nabízíme den plný zábavy s keramickými polytechnickými aktivitami.
URL:https://tk.gymka.cz/akce/glazovani-vyrobku-vyroba-svicnu-domek/
CATEGORIES:Otevřená dílna,Technický klub
ATTACH;FMTTYPE=image/jpeg:https://tk.gymka.cz/wp-content/uploads/2022/03/Otevrena-dilna-TK13-Glazovani-vyrobku-vyroba-svicnu.jpg
END:VEVENT
BEGIN:VEVENT
DTSTART;VALUE=DATE:20211106
DTEND;VALUE=DATE:20211107
DTSTAMP:20260419T235225
CREATED:20220310T221744Z
LAST-MODIFIED:20220310T221810Z
UID:3506-1636156800-1636243199@tk.gymka.cz
SUMMARY:Vánoce - svícen\, keramické ozdoby
DESCRIPTION:Navštivte naší keramickou dílnu na 5. základní škole v Kadani. Nabízíme den plný zábavy s keramickými polytechnickými aktivitami.
URL:https://tk.gymka.cz/akce/vanoce-svicen-keramicke-ozdoby/
CATEGORIES:Otevřená dílna,Technický klub
ATTACH;FMTTYPE=image/jpeg:https://tk.gymka.cz/wp-content/uploads/2022/03/Otevrena-dilna-TK13-Vanoce-svicen-keramicke-ozdoby.jpg
END:VEVENT
END:VCALENDAR